BEGIN:VCALENDAR
VERSION:2.0
PRODID:-//wp-events-plugin.com//6.6.4//EN
TZID:Europe/London
X-WR-TIMEZONE:Europe/London
BEGIN:VEVENT
UID:708@move-more.org
DTSTART;TZID=Europe/London:20250404T100000
DTEND;TZID=Europe/London:20250404T120000
DTSTAMP:20250122T095727Z
URL:https://www.move-more.org/events/move-more-send-swimming-gala-cheltenh
 am/
SUMMARY:Move More SEND Swimming Gala Cheltenham
DESCRIPTION:**EXCITING NEW EVENT** \n\nSEND Swimming Gala:\n\nDate: Friday 
 4th April\n\nTime: 10am - 12pm\n\nVenue: Cheltenham Prep College\, Sports 
 Centre\n\nTeams: KS2 - MUST have some swimming ability. Minimum of 6 per t
 eam\, with a maximum of 9.\n\nDue to the nature of the event\, please ensu
 re to select children who are able to participate fully and safely.\n\n&nb
 sp\;\n\nThis event is supported by Panathlon\, whom will explain the forma
 t of the event on the day.\n\n&nbsp\;\n\n&nbsp\;
ATTACH;FMTTYPE=image/jpeg:https://www.move-more.org/wp-content/uploads/202
 4/09/Website-Events-Image-17.jpg
CATEGORIES:Panathlon,Primary School,Swimming
LOCATION:Cheltenham College Prep School\, Bath Road\, Cheltenham\, GL53 7LD
 \, England
GEO:51.8923739;-2.076587399999994
X-APPLE-STRUCTURED-LOCATION;VALUE=URI;X-ADDRESS=Bath Road\, Cheltenham\, GL
 53 7LD\, England;X-APPLE-RADIUS=100;X-TITLE=Cheltenham College Prep School
 :geo:51.8923739,-2.076587399999994
END:VEVENT
BEGIN:VTIMEZONE
TZID:Europe/London
X-LIC-LOCATION:Europe/London
BEGIN:DAYLIGHT
DTSTART:20250330T020000
TZOFFSETFROM:+0000
TZOFFSETTO:+0100
TZNAME:BST
END:DAYLIGHT
END:VTIMEZONE
END:VCALENDAR